BEGIN:VCALENDAR
VERSION:2.0
PRODID:-//Musikschule Neulengbach - ECPv4.9.12//NONSGML v1.0//EN
CALSCALE:GREGORIAN
METHOD:PUBLISH
X-WR-CALNAME:Musikschule Neulengbach
X-ORIGINAL-URL:https://www.msneulengbach.at
X-WR-CALDESC:Veranstaltungen im Musikschule Neulengbach
BEGIN:VTIMEZONE
TZID:Europe/Berlin
BEGIN:DAYLIGHT
TZOFFSETFROM:+0100
TZOFFSETTO:+0200
TZNAME:CEST
DTSTART:20220327T010000
END:DAYLIGHT
BEGIN:STANDARD
TZOFFSETFROM:+0200
TZOFFSETTO:+0100
TZNAME:CET
DTSTART:20221030T010000
END:STANDARD
END:VTIMEZONE
BEGIN:VEVENT
DTSTART;TZID=Europe/Berlin:20220523T180000
DTEND;TZID=Europe/Berlin:20220523T190000
DTSTAMP:20260422T093131
CREATED:20220419T155133Z
LAST-MODIFIED:20220419T155133Z
UID:10019-1653328800-1653332400@www.msneulengbach.at
SUMMARY:Klassenabend Akkordeon und Steirische Harmonika der Klasse: Drago Brkic
DESCRIPTION:
URL:https://www.msneulengbach.at/event/klassenabend-akkordeon-und-steirische-harmonika-der-klasse-drago-brkic-2/
LOCATION:Musikschule Neulengbach\, Markfeldstraße 26\, Neulengbach\, Niederösterreich\, 3040\, Österreich
END:VEVENT
END:VCALENDAR