BEGIN:VCALENDAR
VERSION:2.0
PRODID:-//Musikschule Neulengbach - ECPv4.9.12//NONSGML v1.0//EN
CALSCALE:GREGORIAN
METHOD:PUBLISH
X-WR-CALNAME:Musikschule Neulengbach
X-ORIGINAL-URL:https://www.msneulengbach.at
X-WR-CALDESC:Veranstaltungen im Musikschule Neulengbach
BEGIN:VTIMEZONE
TZID:Europe/Berlin
BEGIN:DAYLIGHT
TZOFFSETFROM:+0100
TZOFFSETTO:+0200
TZNAME:CEST
DTSTART:20220327T010000
END:DAYLIGHT
BEGIN:STANDARD
TZOFFSETFROM:+0200
TZOFFSETTO:+0100
TZNAME:CET
DTSTART:20221030T010000
END:STANDARD
END:VTIMEZONE
BEGIN:VEVENT
DTSTART;TZID=Europe/Berlin:20220602T180000
DTEND;TZID=Europe/Berlin:20220602T190000
DTSTAMP:20260422T001300
CREATED:20220419T155649Z
LAST-MODIFIED:20220419T155649Z
UID:10023-1654192800-1654196400@www.msneulengbach.at
SUMMARY:Klassenabend Klarinette\, Blockflöte\, Klavier\, Horn\, Tenorhorn und Trompete der Klassen: Mag. Jana Hammer und Mag. Mihaly Bojti
DESCRIPTION:
URL:https://www.msneulengbach.at/event/klassenabend-klarinette-blockfloete-klavier-horn-tenorhorn-und-trompete-der-klassen-mag-jana-hammer-und-mag-mihaly-bojti/
END:VEVENT
END:VCALENDAR