BEGIN:VCALENDAR
VERSION:2.0
PRODID:-//Musikschule Neulengbach - ECPv4.9.12//NONSGML v1.0//EN
CALSCALE:GREGORIAN
METHOD:PUBLISH
X-WR-CALNAME:Musikschule Neulengbach
X-ORIGINAL-URL:https://www.msneulengbach.at
X-WR-CALDESC:Veranstaltungen im Musikschule Neulengbach
BEGIN:VTIMEZONE
TZID:Europe/Berlin
BEGIN:DAYLIGHT
TZOFFSETFROM:+0100
TZOFFSETTO:+0200
TZNAME:CEST
DTSTART:20220327T010000
END:DAYLIGHT
BEGIN:STANDARD
TZOFFSETFROM:+0200
TZOFFSETTO:+0100
TZNAME:CET
DTSTART:20221030T010000
END:STANDARD
END:VTIMEZONE
BEGIN:VEVENT
DTSTART;TZID=Europe/Berlin:20220613T180000
DTEND;TZID=Europe/Berlin:20220613T190000
DTSTAMP:20260421T174257
CREATED:20220419T160240Z
LAST-MODIFIED:20220419T160240Z
UID:10030-1655143200-1655146800@www.msneulengbach.at
SUMMARY:Klassenabend Klavier und Gesang der Klasse: Mag. Monika Scherer
DESCRIPTION:
URL:https://www.msneulengbach.at/event/klassenabend-klavier-und-gesang-der-klasse-mag-monika-scherer/
LOCATION:Musikschule Neulengbach\, Markfeldstraße 26\, Neulengbach\, Niederösterreich\, 3040\, Österreich
END:VEVENT
END:VCALENDAR