BEGIN:VCALENDAR
VERSION:2.0
PRODID:-//Musikschule Neulengbach - ECPv4.9.12//NONSGML v1.0//EN
CALSCALE:GREGORIAN
METHOD:PUBLISH
X-WR-CALNAME:Musikschule Neulengbach
X-ORIGINAL-URL:https://www.msneulengbach.at
X-WR-CALDESC:Veranstaltungen im Musikschule Neulengbach
BEGIN:VTIMEZONE
TZID:Europe/Berlin
BEGIN:DAYLIGHT
TZOFFSETFROM:+0100
TZOFFSETTO:+0200
TZNAME:CEST
DTSTART:20260329T010000
END:DAYLIGHT
BEGIN:STANDARD
TZOFFSETFROM:+0200
TZOFFSETTO:+0100
TZNAME:CET
DTSTART:20261025T010000
END:STANDARD
END:VTIMEZONE
BEGIN:VEVENT
DTSTART;TZID=Europe/Berlin:20260509T180000
DTEND;TZID=Europe/Berlin:20260509T200000
DTSTAMP:20260421T124832
CREATED:20260421T082137Z
LAST-MODIFIED:20260421T082137Z
UID:10541-1778349600-1778356800@www.msneulengbach.at
SUMMARY:Stars von Morgen
DESCRIPTION:
URL:https://www.msneulengbach.at/event/stars-von-morgen/
LOCATION:Lengenbachersaal Neulengbach
END:VEVENT
END:VCALENDAR