BEGIN:VCALENDAR
VERSION:2.0
PRODID:-//Musikschule Neulengbach - ECPv4.9.12//NONSGML v1.0//EN
CALSCALE:GREGORIAN
METHOD:PUBLISH
X-WR-CALNAME:Musikschule Neulengbach
X-ORIGINAL-URL:https://www.msneulengbach.at
X-WR-CALDESC:Veranstaltungen im Musikschule Neulengbach
BEGIN:VTIMEZONE
TZID:Europe/Berlin
BEGIN:DAYLIGHT
TZOFFSETFROM:+0100
TZOFFSETTO:+0200
TZNAME:CEST
DTSTART:20260329T010000
END:DAYLIGHT
BEGIN:STANDARD
TZOFFSETFROM:+0200
TZOFFSETTO:+0100
TZNAME:CET
DTSTART:20261025T010000
END:STANDARD
END:VTIMEZONE
BEGIN:VEVENT
DTSTART;TZID=Europe/Berlin:20260508T170000
DTEND;TZID=Europe/Berlin:20260508T180000
DTSTAMP:20260421T112803
CREATED:20260421T082008Z
LAST-MODIFIED:20260421T082008Z
UID:10539-1778259600-1778263200@www.msneulengbach.at
SUMMARY:Tag der Musikschulen 2026
DESCRIPTION:
URL:https://www.msneulengbach.at/event/tag-der-musikschulen-2026/
END:VEVENT
END:VCALENDAR